BEGIN:VCALENDAR
VERSION:2.0
PRODID:-//Squarespace Inc/Squarespace 6//v6//EN
BEGIN:VEVENT
UID:5fd5ece13ebe0416315467bc@squarespace.com
DTSTAMP:20210104T040117Z
DTSTART:20210220T003000Z
DTEND:20210220T023000Z
SUMMARY:Family First Aid
END:VEVENT
END:VCALENDAR
