BEGIN:VCALENDAR
VERSION:2.0
PRODID:-//Squarespace Inc/Squarespace 6//v6//EN
BEGIN:VEVENT
UID:5fa9d0744e5ce030c7eb6caf@squarespace.com
DTSTAMP:20201109T232846Z
DTSTART:20201205T013000Z
DTEND:20201205T033000Z
SUMMARY:Family First Aid
END:VEVENT
END:VCALENDAR
