BEGIN:VCALENDAR
VERSION:2.0
PRODID:-//Squarespace Inc/Squarespace 6//v6//EN
BEGIN:VEVENT
UID:5f8e5386c9e1691d59d7b545@squarespace.com
DTSTAMP:20201020T030602Z
DTSTART:20201026T000000Z
DTEND:20201026T004000Z
SUMMARY:Baby Beans - Newborns to Sitting Babies
END:VEVENT
END:VCALENDAR
