BEGIN:VCALENDAR
VERSION:2.0
PRODID:-//Squarespace Inc/Squarespace 6//v6//EN
BEGIN:VEVENT
UID:5f920271bb2d2276e50aa480@squarespace.com
DTSTAMP:20201030T043722Z
DTSTART:20201031T000000Z
DTEND:20201031T004000Z
SUMMARY:Baby Beans SPECIAL DADS HALLOWEEN CLASS - Newborns to Sitting Babie
 s
END:VEVENT
END:VCALENDAR
