BEGIN:VCALENDAR
VERSION:2.0
PRODID:-//Squarespace Inc/Squarespace 6//v6//EN
BEGIN:VEVENT
UID:5f8e5d69fba7b248648d8ee3@squarespace.com
DTSTAMP:20201020T034615Z
DTSTART:20201106T000000Z
DTEND:20201106T004000Z
SUMMARY:Baby Beans - Newborns to Sitting Babies
END:VEVENT
END:VCALENDAR
