BEGIN:VCALENDAR
VERSION:2.0
PRODID:-//Squarespace Inc/Squarespace 6//v6//EN
BEGIN:VEVENT
UID:5f8e5d8fe1de6b06705520b8@squarespace.com
DTSTAMP:20201020T034652Z
DTSTART:20201113T000000Z
DTEND:20201113T004000Z
SUMMARY:Baby Beans - Newborns to Sitting Babies
END:VEVENT
END:VCALENDAR
