BEGIN:VCALENDAR
VERSION:2.0
PRODID:-//Squarespace Inc/Squarespace 6//v6//EN
BEGIN:VEVENT
UID:5f8e5db6b147026218ff7db8@squarespace.com
DTSTAMP:20201020T034730Z
DTSTART:20201120T000000Z
DTEND:20201120T004000Z
SUMMARY:Baby Beans - Newborns to Sitting Babies
END:VEVENT
END:VCALENDAR
