BEGIN:VCALENDAR
VERSION:2.0
PRODID:-//Squarespace Inc/Squarespace 6//v6//EN
BEGIN:VEVENT
UID:5f8e5dd87c83c57c9ac359c4@squarespace.com
DTSTAMP:20201112T230259Z
DTSTART:20201127T000000Z
DTEND:20201127T004000Z
SUMMARY:Baby Beans - Newborns to Sitting Babies
END:VEVENT
END:VCALENDAR
