BEGIN:VCALENDAR
VERSION:2.0
PRODID:-//Squarespace Inc/Squarespace 6//v6//EN
BEGIN:VEVENT
UID:5f8e5df8c9e1691d59d9037e@squarespace.com
DTSTAMP:20201112T230552Z
DTSTART:20201204T000000Z
DTEND:20201204T004000Z
SUMMARY:Baby Beans - Newborns to Sitting Babies
END:VEVENT
END:VCALENDAR
