BEGIN:VCALENDAR
VERSION:2.0
PRODID:-//Squarespace Inc/Squarespace 6//v6//EN
BEGIN:VEVENT
UID:5f8e5e1542ce784d0cfffa94@squarespace.com
DTSTAMP:20201112T230902Z
DTSTART:20201211T000000Z
DTEND:20201211T004000Z
SUMMARY:Baby Beans - Newborns to Sitting Babies
END:VEVENT
END:VCALENDAR
