BEGIN:VCALENDAR
VERSION:2.0
PRODID:-//Squarespace Inc/Squarespace 6//v6//EN
BEGIN:VEVENT
UID:5f8e5e365818874f718bbd59@squarespace.com
DTSTAMP:20201112T231414Z
DTSTART:20201218T000000Z
DTEND:20201218T004000Z
SUMMARY:Baby Beans - Newborns to Sitting Babies
END:VEVENT
END:VCALENDAR
