BEGIN:VCALENDAR
VERSION:2.0
PRODID:-//Squarespace Inc/Squarespace 6//v6//EN
BEGIN:VEVENT
UID:5fdf1b27a478394ebcb01c04@squarespace.com
DTSTAMP:20201220T094119Z
DTSTART:20210112T010000Z
DTEND:20210112T014000Z
SUMMARY:Baby Beans - Newborns to Sitting Babies
END:VEVENT
END:VCALENDAR
