BEGIN:VCALENDAR
VERSION:2.0
PRODID:-//Squarespace Inc/Squarespace 6//v6//EN
BEGIN:VEVENT
UID:5ff7cc90253dc14f1ab25de2@squarespace.com
DTSTAMP:20210108T030828Z
DTSTART:20210119T010000Z
DTEND:20210119T014000Z
SUMMARY:Baby Beans - Newborns to Sitting Babies
END:VEVENT
END:VCALENDAR
