BEGIN:VCALENDAR
VERSION:2.0
PRODID:-//Squarespace Inc/Squarespace 6//v6//EN
BEGIN:VEVENT
UID:5fdf1c00f5f6422656563fab@squarespace.com
DTSTAMP:20201220T094130Z
DTSTART:20210113T000000Z
DTEND:20210113T004000Z
SUMMARY:Baby Beans - Newborns to Sitting Babies
END:VEVENT
END:VCALENDAR
