BEGIN:VCALENDAR
VERSION:2.0
PRODID:-//Squarespace Inc/Squarespace 6//v6//EN
BEGIN:VEVENT
UID:5fdf1c51f5f64226565642d3@squarespace.com
DTSTAMP:20201220T094224Z
DTSTART:20210114T010000Z
DTEND:20210114T014000Z
SUMMARY:Baby Beans - Newborns to Sitting Babies
END:VEVENT
END:VCALENDAR
