BEGIN:VCALENDAR
VERSION:2.0
PRODID:-//Squarespace Inc/Squarespace 6//v6//EN
BEGIN:VEVENT
UID:5ff7cd23e3ef793e48fe822e@squarespace.com
DTSTAMP:20210108T031223Z
DTSTART:20210121T010000Z
DTEND:20210121T014000Z
SUMMARY:Baby Beans - Newborns to Sitting Babies
END:VEVENT
END:VCALENDAR
