BEGIN:VCALENDAR
VERSION:2.0
PRODID:-//Squarespace Inc/Squarespace 6//v6//EN
BEGIN:VEVENT
UID:5ff7cebc9b95a043a25c0894@squarespace.com
DTSTAMP:20210108T031743Z
DTSTART:20210128T010000Z
DTEND:20210128T014000Z
SUMMARY:Baby Beans - Newborns to Sitting Babies
END:VEVENT
END:VCALENDAR
