BEGIN:VCALENDAR
VERSION:2.0
PRODID:-//Squarespace Inc/Squarespace 6//v6//EN
BEGIN:VEVENT
UID:5ff7cccd488eb904d501dcae@squarespace.com
DTSTAMP:20210108T030924Z
DTSTART:20210120T000000Z
DTEND:20210120T004000Z
SUMMARY:Baby Beans - Newborns to Sitting Babies
END:VEVENT
END:VCALENDAR
