BEGIN:VCALENDAR
VERSION:2.0
PRODID:-//Squarespace Inc/Squarespace 6//v6//EN
BEGIN:VEVENT
UID:5ff7ce4bfc6bad1cdf1a1f54@squarespace.com
DTSTAMP:20210108T031549Z
DTSTART:20210127T000000Z
DTEND:20210127T004000Z
SUMMARY:Baby Beans - Newborns to Sitting Babies
END:VEVENT
END:VCALENDAR
