BEGIN:VCALENDAR
VERSION:2.0
PRODID:-//Squarespace Inc/Squarespace 6//v6//EN
BEGIN:VEVENT
UID:5fdf1c9142c0045a3309162f@squarespace.com
DTSTAMP:20201220T094402Z
DTSTART:20210115T000000Z
DTEND:20210115T010000Z
SUMMARY:Baby Beans - Newborns to Sitting Babies
END:VEVENT
END:VCALENDAR
