BEGIN:VCALENDAR
VERSION:2.0
PRODID:-//Squarespace Inc/Squarespace 6//v6//EN
BEGIN:VEVENT
UID:5ff7cd514b2bac145e416f9a@squarespace.com
DTSTAMP:20210108T031135Z
DTSTART:20210122T000000Z
DTEND:20210122T004000Z
SUMMARY:Baby Beans - Newborns to Sitting Babies
END:VEVENT
END:VCALENDAR
