BEGIN:VCALENDAR
VERSION:2.0
PRODID:-//Squarespace Inc/Squarespace 6//v6//EN
BEGIN:VEVENT
UID:5ff7cf512e7b424c2a9e4623@squarespace.com
DTSTAMP:20210108T032011Z
DTSTART:20210129T000000Z
DTEND:20210129T004000Z
SUMMARY:Baby Beans - Newborns to Sitting Babies
END:VEVENT
END:VCALENDAR
