BEGIN:VCALENDAR
VERSION:2.0
PRODID:-//Squarespace Inc/Squarespace 6//v6//EN
BEGIN:VEVENT
UID:60127c77647094629398cdf2@squarespace.com
DTSTAMP:20210128T085757Z
DTSTART:20210203T000000Z
DTEND:20210203T004000Z
SUMMARY:Baby Beans - Newborns to Sitting Babies
END:VEVENT
END:VCALENDAR
