BEGIN:VCALENDAR
VERSION:2.0
PRODID:-//Squarespace Inc/Squarespace 6//v6//EN
BEGIN:VEVENT
UID:60127da57a96984eb6871e23@squarespace.com
DTSTAMP:20210128T090306Z
DTSTART:20210205T000000Z
DTEND:20210205T004000Z
SUMMARY:Baby Beans - Newborns to Sitting Babies
END:VEVENT
END:VCALENDAR
