BEGIN:VCALENDAR
VERSION:2.0
PRODID:-//Squarespace Inc/Squarespace 6//v6//EN
BEGIN:VEVENT
UID:60127e9e3be77f57d6f22779@squarespace.com
DTSTAMP:20210128T090714Z
DTSTART:20210210T000000Z
DTEND:20210210T004000Z
SUMMARY:Baby Beans - Newborns to Sitting Babies
END:VEVENT
END:VCALENDAR
