BEGIN:VCALENDAR
VERSION:2.0
PRODID:-//Squarespace Inc/Squarespace 6//v6//EN
BEGIN:VEVENT
UID:60127f2c14738b455a3f0473@squarespace.com
DTSTAMP:20210128T090934Z
DTSTART:20210212T000000Z
DTEND:20210212T004000Z
SUMMARY:Baby Beans - Newborns to Sitting Babies
END:VEVENT
END:VCALENDAR
