BEGIN:VCALENDAR
VERSION:2.0
PRODID:-//Squarespace Inc/Squarespace 6//v6//EN
BEGIN:VEVENT
UID:60127fed328a6367486a8fc3@squarespace.com
DTSTAMP:20210128T091248Z
DTSTART:20210217T000000Z
DTEND:20210217T004000Z
SUMMARY:Baby Beans - Newborns to Sitting Babies
END:VEVENT
END:VCALENDAR
