BEGIN:VCALENDAR
VERSION:2.0
PRODID:-//Squarespace Inc/Squarespace 6//v6//EN
BEGIN:VEVENT
UID:601280fd72f3b96436d375d0@squarespace.com
DTSTAMP:20210128T091719Z
DTSTART:20210219T000000Z
DTEND:20210219T004000Z
SUMMARY:Baby Beans - Newborns to Sitting Babies
END:VEVENT
END:VCALENDAR
