BEGIN:VCALENDAR
VERSION:2.0
PRODID:-//Squarespace Inc/Squarespace 6//v6//EN
BEGIN:VEVENT
UID:60127c0cac62e54e7698597a@squarespace.com
DTSTAMP:20210128T085619Z
DTSTART:20210202T010000Z
DTEND:20210202T014000Z
SUMMARY:Baby Beans - Newborns to Sitting Babies
END:VEVENT
END:VCALENDAR
