BEGIN:VCALENDAR
VERSION:2.0
PRODID:-//Squarespace Inc/Squarespace 6//v6//EN
BEGIN:VEVENT
UID:60127cfb5aa53673c39503a0@squarespace.com
DTSTAMP:20210128T090016Z
DTSTART:20210204T010000Z
DTEND:20210204T014000Z
SUMMARY:Baby Beans - Newborns to Sitting Babies
END:VEVENT
END:VCALENDAR
