BEGIN:VCALENDAR
VERSION:2.0
PRODID:-//Squarespace Inc/Squarespace 6//v6//EN
BEGIN:VEVENT
UID:60127e38059c0c3780dd84d6@squarespace.com
DTSTAMP:20210128T090525Z
DTSTART:20210209T010000Z
DTEND:20210209T014000Z
SUMMARY:Baby Beans - Newborns to Sitting Babies
END:VEVENT
END:VCALENDAR
