BEGIN:VCALENDAR
VERSION:2.0
PRODID:-//Squarespace Inc/Squarespace 6//v6//EN
BEGIN:VEVENT
UID:60127f02e531d2673037e73d@squarespace.com
DTSTAMP:20210128T090852Z
DTSTART:20210211T010000Z
DTEND:20210211T014000Z
SUMMARY:Baby Beans - Newborns to Sitting Babies
END:VEVENT
END:VCALENDAR
