BEGIN:VCALENDAR
VERSION:2.0
PRODID:-//Squarespace Inc/Squarespace 6//v6//EN
BEGIN:VEVENT
UID:60127fc3a544e45997075cc1@squarespace.com
DTSTAMP:20210128T091159Z
DTSTART:20210216T010000Z
DTEND:20210216T014000Z
SUMMARY:Baby Beans - Newborns to Sitting Babies
END:VEVENT
END:VCALENDAR
