BEGIN:VCALENDAR
VERSION:2.0
PRODID:-//Squarespace Inc/Squarespace 6//v6//EN
BEGIN:VEVENT
UID:601280781befd922676510b2@squarespace.com
DTSTAMP:20210128T091507Z
DTSTART:20210218T010000Z
DTEND:20210218T014000Z
SUMMARY:Baby Beans - Newborns to Sitting Babies
END:VEVENT
END:VCALENDAR
