BEGIN:VCALENDAR
VERSION:2.0
PRODID:-//Squarespace Inc/Squarespace 6//v6//EN
BEGIN:VEVENT
UID:5f8e567b43a8423e3c5aec3e@squarespace.com
DTSTAMP:20201020T033153Z
DTSTART:20201028T000000Z
DTEND:20201028T004000Z
SUMMARY:Baby Beans - Newborns to Sitting Babies
END:VEVENT
END:VCALENDAR
