BEGIN:VCALENDAR
VERSION:2.0
PRODID:-//Squarespace Inc/Squarespace 6//v6//EN
BEGIN:VEVENT
UID:5f8e5a54b147026218fefc16@squarespace.com
DTSTAMP:20201020T033304Z
DTSTART:20201104T000000Z
DTEND:20201104T004000Z
SUMMARY:Baby Beans - Newborns to Sitting Babies
END:VEVENT
END:VCALENDAR
