BEGIN:VCALENDAR
VERSION:2.0
PRODID:-//Squarespace Inc/Squarespace 6//v6//EN
BEGIN:VEVENT
UID:5f8e5a792eb7ad5e5cae1fbe@squarespace.com
DTSTAMP:20201020T033337Z
DTSTART:20201111T000000Z
DTEND:20201111T004000Z
SUMMARY:Baby Beans - Newborns to Sitting Babies
END:VEVENT
END:VCALENDAR
