BEGIN:VCALENDAR
VERSION:2.0
PRODID:-//Squarespace Inc/Squarespace 6//v6//EN
BEGIN:VEVENT
UID:5f8e5abafba7b248648d51f2@squarespace.com
DTSTAMP:20201112T230202Z
DTSTART:20201125T000000Z
DTEND:20201125T004000Z
SUMMARY:Baby Beans - Newborns to Sitting Babies
END:VEVENT
END:VCALENDAR
