BEGIN:VCALENDAR
VERSION:2.0
PRODID:-//Squarespace Inc/Squarespace 6//v6//EN
BEGIN:VEVENT
UID:5f8e5ad76e64ed64cf56e478@squarespace.com
DTSTAMP:20201112T230454Z
DTSTART:20201202T000000Z
DTEND:20201202T004000Z
SUMMARY:Baby Beans - Newborns to Sitting Babies
END:VEVENT
END:VCALENDAR
