BEGIN:VCALENDAR
VERSION:2.0
PRODID:-//Squarespace Inc/Squarespace 6//v6//EN
BEGIN:VEVENT
UID:5f8e5af707bb7179956f70f9@squarespace.com
DTSTAMP:20201112T230803Z
DTSTART:20201209T000000Z
DTEND:20201209T004000Z
SUMMARY:Baby Beans - Newborns to Sitting Babies
END:VEVENT
END:VCALENDAR
