BEGIN:VCALENDAR
VERSION:2.0
PRODID:-//Squarespace Inc/Squarespace 6//v6//EN
BEGIN:VEVENT
UID:5f8e5b176e64ed64cf56e9d9@squarespace.com
DTSTAMP:20201112T231130Z
DTSTART:20201216T000000Z
DTEND:20201216T004000Z
SUMMARY:Baby Beans - Newborns to Sitting Babies
END:VEVENT
END:VCALENDAR
