BEGIN:VCALENDAR
VERSION:2.0
PRODID:-//Squarespace Inc/Squarespace 6//v6//EN
BEGIN:VEVENT
UID:5f8e54257c83c57c9ac230c0@squarespace.com
DTSTAMP:20201020T030646Z
DTSTART:20201026T010000Z
DTEND:20201026T014000Z
SUMMARY:Baby Beans - Newborns to Sitting Babies
END:VEVENT
END:VCALENDAR
