BEGIN:VCALENDAR
VERSION:2.0
PRODID:-//Squarespace Inc/Squarespace 6//v6//EN
BEGIN:VEVENT
UID:5f8e556a6e64ed64cf56310e@squarespace.com
DTSTAMP:20201020T031218Z
DTSTART:20201102T010000Z
DTEND:20201102T014000Z
SUMMARY:Baby Beans - Newborns to Sitting Babies
END:VEVENT
END:VCALENDAR
