BEGIN:VCALENDAR
VERSION:2.0
PRODID:-//Squarespace Inc/Squarespace 6//v6//EN
BEGIN:VEVENT
UID:5f8e559f28b161254b336cb3@squarespace.com
DTSTAMP:20201020T031302Z
DTSTART:20201109T010000Z
DTEND:20201109T014000Z
SUMMARY:Baby Beans - Newborns to Sitting Babies
END:VEVENT
END:VCALENDAR
