BEGIN:VCALENDAR
VERSION:2.0
PRODID:-//Squarespace Inc/Squarespace 6//v6//EN
BEGIN:VEVENT
UID:5fac843e69c60d415bd4fdcb@squarespace.com
DTSTAMP:20201112T230408Z
DTSTART:20201130T230000Z
DTEND:20201130T234000Z
SUMMARY:Baby Beans - Newborns to Sitting Babies
END:VEVENT
END:VCALENDAR
