BEGIN:VCALENDAR
VERSION:2.0
PRODID:-//Squarespace Inc/Squarespace 6//v6//EN
BEGIN:VEVENT
UID:5fac847144e82125538738ba@squarespace.com
DTSTAMP:20201112T230707Z
DTSTART:20201207T230000Z
DTEND:20201207T234000Z
SUMMARY:Baby Beans - Newborns to Sitting Babies
END:VEVENT
END:VCALENDAR
