BEGIN:VCALENDAR
VERSION:2.0
PRODID:-//Squarespace Inc/Squarespace 6//v6//EN
BEGIN:VEVENT
UID:5fac84a9e44daa6be0b4e602@squarespace.com
DTSTAMP:20201213T091208Z
DTSTART:20201215T010000Z
DTEND:20201215T014000Z
SUMMARY:Baby Beans - Newborns to Sitting Babies
END:VEVENT
END:VCALENDAR
