BEGIN:VCALENDAR
VERSION:2.0
PRODID:-//Squarespace Inc/Squarespace 6//v6//EN
BEGIN:VEVENT
UID:5fac83eff8f3f1419044c058@squarespace.com
DTSTAMP:20201112T230116Z
DTSTART:20201123T230000Z
DTEND:20201123T234000Z
SUMMARY:Baby Beans - Newborns to Sitting Babies
END:VEVENT
END:VCALENDAR
