BEGIN:VCALENDAR
VERSION:2.0
PRODID:-//Squarespace Inc/Squarespace 6//v6//EN
BEGIN:VEVENT
UID:5f8e5b7a07bb7179956f7cac@squarespace.com
DTSTAMP:20201020T034123Z
DTSTART:20201105T010000Z
DTEND:20201105T014000Z
SUMMARY:Baby Beans - Newborns to Sitting Babies
END:VEVENT
END:VCALENDAR
