BEGIN:VCALENDAR
VERSION:2.0
PRODID:-//Squarespace Inc/Squarespace 6//v6//EN
BEGIN:VEVENT
UID:5f8e5c6923447922ce0fcbf3@squarespace.com
DTSTAMP:20201020T034156Z
DTSTART:20201112T010000Z
DTEND:20201112T014000Z
SUMMARY:Baby Beans - Newborns to Sitting Babies
END:VEVENT
END:VCALENDAR
